BEGIN:VCALENDAR
VERSION:2.0
PRODID:-//Museum Joure - ECPv6.15.20//NONSGML v1.0//EN
CALSCALE:GREGORIAN
METHOD:PUBLISH
X-ORIGINAL-URL:https://www.museumjoure.nl
X-WR-CALDESC:Evenementen voor Museum Joure
REFRESH-INTERVAL;VALUE=DURATION:PT1H
X-Robots-Tag:noindex
X-PUBLISHED-TTL:PT1H
BEGIN:VTIMEZONE
TZID:Europe/Paris
BEGIN:DAYLIGHT
TZOFFSETFROM:+0100
TZOFFSETTO:+0200
TZNAME:CEST
DTSTART:20230326T010000
END:DAYLIGHT
BEGIN:STANDARD
TZOFFSETFROM:+0200
TZOFFSETTO:+0100
TZNAME:CET
DTSTART:20231029T010000
END:STANDARD
BEGIN:DAYLIGHT
TZOFFSETFROM:+0100
TZOFFSETTO:+0200
TZNAME:CEST
DTSTART:20240331T010000
END:DAYLIGHT
BEGIN:STANDARD
TZOFFSETFROM:+0200
TZOFFSETTO:+0100
TZNAME:CET
DTSTART:20241027T010000
END:STANDARD
BEGIN:DAYLIGHT
TZOFFSETFROM:+0100
TZOFFSETTO:+0200
TZNAME:CEST
DTSTART:20250330T010000
END:DAYLIGHT
BEGIN:STANDARD
TZOFFSETFROM:+0200
TZOFFSETTO:+0100
TZNAME:CET
DTSTART:20251026T010000
END:STANDARD
BEGIN:DAYLIGHT
TZOFFSETFROM:+0100
TZOFFSETTO:+0200
TZNAME:CEST
DTSTART:20260329T010000
END:DAYLIGHT
BEGIN:STANDARD
TZOFFSETFROM:+0200
TZOFFSETTO:+0100
TZNAME:CET
DTSTART:20261025T010000
END:STANDARD
END:VTIMEZONE
BEGIN:VEVENT
DTSTART;TZID=Europe/Paris:20241215T100000
DTEND;TZID=Europe/Paris:20250323T170000
DTSTAMP:20260423T210007
CREATED:20241203T100050Z
LAST-MODIFIED:20250318T111809Z
UID:15532-1734256800-1742749200@www.museumjoure.nl
SUMMARY:Expositie Alumni Kunstenaars Klassieke Academie
DESCRIPTION:Traditie en vernieuwing in harmonie\nVan 15 december tot en met 23 maart exposeert Museum Joure werk van de Alumni Kunstenaars Klassieke Academie (AKKA). De kunstenaars van deze vereniging combineren traditie en vernieuwing. De tentoonstelling toont een selectie van werken van 18 AKKA-kunstenaars. De werken variëren van schilderijen en tekeningen tot beeldhouwwerken\, ze weerspiegelen de veelzijdigheid en het vakmanschap waar AKKA om bekendstaat. \nMeer over de expositie >
URL:https://www.museumjoure.nl/agenda/expositie-alumni-kunstenaars-klassieke-academie/
ATTACH;FMTTYPE=image/jpeg:https://www.museumjoure.nl/wp-content/uploads/2024/12/drukkerij-akka-kunstenaars.jpg
END:VEVENT
BEGIN:VEVENT
DTSTART;TZID=Europe/Paris:20241127T100000
DTEND;TZID=Europe/Paris:20250316T170000
DTSTAMP:20260423T210007
CREATED:20241127T112044Z
LAST-MODIFIED:20241128T101607Z
UID:15510-1732701600-1742144400@www.museumjoure.nl
SUMMARY:Expositie genomineerden Vredeman de Vriesprijs voor Vormgeving
DESCRIPTION:Tot en met 16 maart exposeert Museum Joure het werk van de vijf genomineerden voor de Vredeman de Vriesprijs voor Vormgeving 2024. Deze prijs is door de provincie Fryslân ingesteld en wordt eens in de twee jaar uitgereikt. Op 11 december wordt de winnaar van de juryprijs door gedeputeerde Sijbe Knol bekend gemaakt. \nMeer informatie en stemmen >
URL:https://www.museumjoure.nl/agenda/expositie-vijf-genomineerden-vredeman-de-vriesprijs-voor-vormgeving/
ATTACH;FMTTYPE=image/jpeg:https://www.museumjoure.nl/wp-content/uploads/2024/11/image00003_8.jpeg
END:VEVENT
END:VCALENDAR